BEGIN:VCALENDAR
VERSION:2.0
PRODID:-//hacksw/handcal//NONSGML v1.0//EN
CALSCALE:GREGORIAN
BEGIN:VEVENT
DTEND:20150529T230000Z
UID:69ed4ae0d82fa
DTSTAMP:20260426T001440Z
LOCATION:North Carolina

DESCRIPTION:Swim with the Honu\, ride on the IRONMAN World Championship bike course\, and run in a vacationer&#39\;s paradise.

URL;VALUE=URI:
SUMMARY:IRONKIDS Raleigh Fun Run
DTSTART:20150529T230000Z
END:VEVENT
END:VCALENDAR
An internal server error occurred.