BEGIN:VCALENDAR
VERSION:2.0
PRODID:-//hacksw/handcal//NONSGML v1.0//EN
CALSCALE:GREGORIAN
BEGIN:VEVENT
DTEND:20150516T230000Z
UID:69e5f1a0640df
DTSTAMP:20260420T102800Z
LOCATION:Chattanooga

DESCRIPTION:Chattanooga offers a scenic\, fast course with a downstream swim in the Tennessee River.

URL;VALUE=URI:
SUMMARY:Sunbelt Bakery IRONMAN 70.3 Chattanooga
DTSTART:20150516T230000Z
END:VEVENT
END:VCALENDAR
An internal server error occurred.