BEGIN:VCALENDAR
VERSION:2.0
PRODID:-//hacksw/handcal//NONSGML v1.0//EN
CALSCALE:GREGORIAN
BEGIN:VEVENT
DTEND:20150424T230000Z
UID:69ed6bc753a9f
DTSTAMP:20260426T023503Z
LOCATION:Texas

DESCRIPTION:
URL;VALUE=URI:
SUMMARY:UnitedHealthcare IRONKIDS Galveston Fun Run
DTSTART:20150424T230000Z
END:VEVENT
END:VCALENDAR
An internal server error occurred.