BEGIN:VCALENDAR
VERSION:2.0
PRODID:-//hacksw/handcal//NONSGML v1.0//EN
CALSCALE:GREGORIAN
BEGIN:VEVENT
DTEND:20150302T160000Z
UID:69eae97c7a536
DTSTAMP:20260424T045436Z
LOCATION:1020 Wien\, Dianabad gegenüber Schwedenplatz
DESCRIPTION:Das Warum\, Wie\, Wann des stoßbelastungsfreien Trendsportes. Für alle\, die etwas Neues ausprobieren möchten oder müssen\, weil sie verletzt sind oder waren\, übergewichtig oder schwanger sind oder einfach nur präventiv ...Dauer: ca. 80 min\, weiters siehe Beschreibung

URL;VALUE=URI:
SUMMARY:Vortrag: Aqua Joggen- der gesunde Gesundheitssport 
DTSTART:20150302T160000Z
END:VEVENT
END:VCALENDAR
An internal server error occurred.