BEGIN:VCALENDAR
VERSION:2.0
PRODID:-//hacksw/handcal//NONSGML v1.0//EN
CALSCALE:GREGORIAN
BEGIN:VEVENT
DTEND:20151010T230000Z
UID:69eb1c2d5b977
DTSTAMP:20260424T083053Z
LOCATION:Chicago

DESCRIPTION:
URL;VALUE=URI:
SUMMARY:Bank of America Chicago Marathon
DTSTART:20151010T230000Z
END:VEVENT
END:VCALENDAR
An internal server error occurred.