BEGIN:VCALENDAR
VERSION:2.0
PRODID:-//hacksw/handcal//NONSGML v1.0//EN
CALSCALE:GREGORIAN
BEGIN:VEVENT
DTEND:20150509T230000Z
UID:69ed79227a18a
DTSTAMP:20260426T033202Z
LOCATION:Jaworów

DESCRIPTION:
URL;VALUE=URI:
SUMMARY:Roztoczanski Miedzynarodowy Maraton Lubaczów(POL)-Jaworów(UKR)
DTSTART:20150509T230000Z
END:VEVENT
END:VCALENDAR
An internal server error occurred.