BEGIN:VCALENDAR
VERSION:2.0
PRODID:-//hacksw/handcal//NONSGML v1.0//EN
CALSCALE:GREGORIAN
BEGIN:VEVENT
DTEND:20141213T230000Z
UID:69ecaee547ad9
DTSTAMP:20260425T130909Z
LOCATION:Reggio Emilia

DESCRIPTION:
URL;VALUE=URI:
SUMMARY:Maratona di Reggio Emilia Città del Tricolore
DTSTART:20141213T230000Z
END:VEVENT
END:VCALENDAR
An internal server error occurred.