BEGIN:VCALENDAR
VERSION:2.0
PRODID:-//hacksw/handcal//NONSGML v1.0//EN
CALSCALE:GREGORIAN
BEGIN:VEVENT
DTEND:20151230T230000Z
UID:69ed86f33e15b
DTSTAMP:20260426T043059Z
LOCATION:1010 Wien-Ringstrasse
DESCRIPTION:Rund um den Ring (Uhrzeigersinn) Heavy Runners-Wertung (Schwergewichtswertung)\, Kostümierung\, Hundewertung

URL;VALUE=URI:
SUMMARY:LCC-Wien Int. Silvesterlauf des LCC-Wien auf der Ringstraße
DTSTART:20151230T230000Z
END:VEVENT
END:VCALENDAR
An internal server error occurred.