BEGIN:VCALENDAR
VERSION:2.0
PRODID:-//hacksw/handcal//NONSGML v1.0//EN
CALSCALE:GREGORIAN
BEGIN:VEVENT
DTEND:20150925T230000Z
UID:69ebed8783680
DTSTAMP:20260424T232407Z
LOCATION:3971 St. Martin
DESCRIPTION:Ein Wettlauf gegen die Dampflokomotive
3 km von Steinbach nach St. Martin 
URL;VALUE=URI:
SUMMARY:Mensch gegen Maschine presented by Raiffeisenbank Weitra
DTSTART:20150925T230000Z
END:VEVENT
END:VCALENDAR
An internal server error occurred.