BEGIN:VCALENDAR
VERSION:2.0
PRODID:-//hacksw/handcal//NONSGML v1.0//EN
CALSCALE:GREGORIAN
BEGIN:VEVENT
DTEND:20150828T230000Z
UID:69ed524f2c804
DTSTAMP:20260426T004623Z
LOCATION:3222 Annaberg
DESCRIPTION:Streckenverlauf: Der Start befindet sich in Annaberg beim Naturparkcampus Ötscher:Reich\, danach verläuft die Strecke über Reith - Gösing – Turmkogel – Puchenstuben nach Laubenbachmühle

URL;VALUE=URI:
SUMMARY:Lauf zur NÖ Landesausstellung in Annaberg
DTSTART:20150828T230000Z
END:VEVENT
END:VCALENDAR
An internal server error occurred.