BEGIN:VCALENDAR
VERSION:2.0
PRODID:-//hacksw/handcal//NONSGML v1.0//EN
CALSCALE:GREGORIAN
BEGIN:VEVENT
DTEND:20150814T230000Z
UID:69eca851e9198
DTSTAMP:20260425T124105Z
LOCATION:3293 Lunz am See 
DESCRIPTION:
URL;VALUE=URI:
SUMMARY:Lunzer Aktivlauf 
DTSTART:20150814T230000Z
END:VEVENT
END:VCALENDAR
An internal server error occurred.