BEGIN:VCALENDAR
VERSION:2.0
PRODID:-//hacksw/handcal//NONSGML v1.0//EN
CALSCALE:GREGORIAN
BEGIN:VEVENT
DTEND:20150530T230000Z
UID:69e59b595b0c3
DTSTAMP:20260420T041953Z
LOCATION:Edinburgh
DESCRIPTION:INTERNATIONALER EVENT vom 24. bis 25. Mai 2014

URL;VALUE=URI:
SUMMARY:Edinburgh Marathon SCO
DTSTART:20150530T230000Z
END:VEVENT
END:VCALENDAR
An internal server error occurred.