BEGIN:VCALENDAR
VERSION:2.0
PRODID:-//hacksw/handcal//NONSGML v1.0//EN
CALSCALE:GREGORIAN
BEGIN:VEVENT
DTEND:20150227T230000Z
UID:69ec23d2b3eac
DTSTAMP:20260425T031546Z
LOCATION:6370 Kitzbühel 
DESCRIPTION:Berglauf

URL;VALUE=URI:
SUMMARY:Streif Vertical Up - die Schlacht am Hahnenkamm 
DTSTART:20150227T230000Z
END:VEVENT
END:VCALENDAR
An internal server error occurred.