BEGIN:VCALENDAR
VERSION:2.0
PRODID:-//hacksw/handcal//NONSGML v1.0//EN
CALSCALE:GREGORIAN
BEGIN:VEVENT
DTEND:20140907T090000Z
UID:69eb7bcf1892e
DTSTAMP:20260424T151855Z
LOCATION:1030 Wien
DESCRIPTION:Das Warum\, Wie\, Wann einer Lauf-\, Lauftechnik Verbesserung. Ein Thema\, das jeden Läufer und jeden anderen\, der läuft - vom Fußballer bis zum Kletterer - interessieren müsste.

URL;VALUE=URI:
SUMMARY:Vortrag: Laufen - gesünder\, wirksamer\, schöner\, schneller 
DTSTART:20140906T230000Z
END:VEVENT
END:VCALENDAR
An internal server error occurred.