BEGIN:VCALENDAR
VERSION:2.0
PRODID:-//hacksw/handcal//NONSGML v1.0//EN
CALSCALE:GREGORIAN
BEGIN:VEVENT
DTEND:20140903T180000Z
UID:69ec15322c5c8
DTSTAMP:20260425T021322Z
LOCATION:3100 St. Pölten
DESCRIPTION:Das Warum\, Wie\, Wann einer Lauf-\, Lauftechnik Verbesserung. Ein Thema\, das jeden Läufer und jeden anderen\, der läuft - vom Fußballer bis zum Kletterer - interessieren müsste.

URL;VALUE=URI:
SUMMARY:Vortrag: Laufen- gesünder\, wirksamer\, schöner\, schneller 
DTSTART:20140902T230000Z
END:VEVENT
END:VCALENDAR
An internal server error occurred.