BEGIN:VCALENDAR
VERSION:2.0
PRODID:-//hacksw/handcal//NONSGML v1.0//EN
CALSCALE:GREGORIAN
BEGIN:VEVENT
DTEND:20140915T171500Z
UID:69ece6c95eb3d
DTSTAMP:20260425T170737Z
LOCATION:1020 Wien
DESCRIPTION:Kursort: Dianabad\, gegenüber Schwedenplatz. Alle weiteren Infos auf der o.g. Webseite
URL;VALUE=URI:
SUMMARY:Aqua Jogging - Kurs für Anfänger und Fortgeschrittene 
DTSTART:20140914T230000Z
END:VEVENT
END:VCALENDAR
An internal server error occurred.