BEGIN:VCALENDAR
VERSION:2.0
PRODID:-//hacksw/handcal//NONSGML v1.0//EN
CALSCALE:GREGORIAN
BEGIN:VEVENT
DTEND:20140910T181500Z
UID:69ed8fcb42246
DTSTAMP:20260426T050843Z
LOCATION:1020 Wien
DESCRIPTION:Kursort: ASKÖ Spenadlwiese\, direkt neben 1er\, 7min U1\,U2\,U3. Alle weiteren Infos auf der o.g. Webseite

URL;VALUE=URI:
SUMMARY:Richtig Laufen - Lauftechnik Seminar für Anfänger und Fortgeschrittene 
DTSTART:20140909T230000Z
END:VEVENT
END:VCALENDAR
An internal server error occurred.