BEGIN:VCALENDAR
VERSION:2.0
PRODID:-//hacksw/handcal//NONSGML v1.0//EN
CALSCALE:GREGORIAN
BEGIN:VEVENT
DTEND:20140626T073000Z
UID:69ec0c46d5c91
DTSTAMP:20260425T013518Z
LOCATION:1020 Wien
DESCRIPTION:Alle Infos unter der o.g. Webpage bzw. Mailadresse. Anmeldung verpflichtend. Begrenzte Teilnehmerzahlen
URL;VALUE=URI:
SUMMARY:Aqua Jogging - Kurs für Anfänger und Fortgeschrittene
DTSTART:20140625T230000Z
END:VEVENT
END:VCALENDAR
An internal server error occurred.