BEGIN:VCALENDAR
VERSION:2.0
PRODID:-//hacksw/handcal//NONSGML v1.0//EN
CALSCALE:GREGORIAN
BEGIN:VEVENT
DTEND:20140625T191500Z
UID:69eae9789ad41
DTSTAMP:20260424T045432Z
LOCATION:1020 Wien
DESCRIPTION:Das Warum\, Wie\, Wann einer Lauf-\, Lauftechnik Verbesserung. Ein Thema das jeden Läufer und jeden anderen der läuft - vom Fußballer bis zum Kletterer - interessieren müßte. Aufbereitet von Lauftechnikexperte Peter Wundsam
URL;VALUE=URI:
SUMMARY:Vortrag: Laufen- gesünder\, wirksamer\, schöner\, schneller
DTSTART:20140624T230000Z
END:VEVENT
END:VCALENDAR
An internal server error occurred.