BEGIN:VCALENDAR
VERSION:2.0
PRODID:-//hacksw/handcal//NONSGML v1.0//EN
CALSCALE:GREGORIAN
BEGIN:VEVENT
DTEND:20140705T170000Z
UID:69e9d10752586
DTSTAMP:20260423T085759Z
LOCATION:3971 St. Martin
DESCRIPTION:von Steinbach nach St. Martin
URL;VALUE=URI:
SUMMARY:Mensch gegen Maschine presented by Raiffeisenbank Weitra
DTSTART:20140704T230000Z
END:VEVENT
END:VCALENDAR
An internal server error occurred.