BEGIN:VCALENDAR
VERSION:2.0
PRODID:-//hacksw/handcal//NONSGML v1.0//EN
CALSCALE:GREGORIAN
BEGIN:VEVENT
DTEND:20140902T174500Z
UID:69eb3032513c4
DTSTAMP:20260424T095618Z
LOCATION:4020 Linz
DESCRIPTION:Das Warum. Wie\, Was des gesunden Laufens für alle Läufer und alle die Laufen- vom Fußballer bis zum Busnachsprinter.
URL;VALUE=URI:
SUMMARY:Vortrag: Laufen- gesünder\, wirksamer\, schöner\, schneller
DTSTART:20140901T230000Z
END:VEVENT
END:VCALENDAR
An internal server error occurred.