BEGIN:VCALENDAR
VERSION:2.0
PRODID:-//hacksw/handcal//NONSGML v1.0//EN
CALSCALE:GREGORIAN
BEGIN:VEVENT
DTEND:20140831T073000Z
UID:69ece2ca3f411
DTSTAMP:20260425T165034Z
LOCATION:82100 Chios Greece
DESCRIPTION:Description of the Race:
Campos\, one of the most beautiful areas of Chios
is a unique residential complex\,
harmoniously combining the excellent natural landscape with particularly
local architectural features.
Place full of citrus orchards\,
interspersed with old mansions
only 6 km to the south of Chios town.
Campos has been declared \\\"historic site\\\" and \\\"traditional settlement\\\"\,
protected from the Ministry of Culture
To get a sense of the island\\\'s historical character
The area is extensive and the roads are narrow and winding.
Each seoason offers a different\, but always interesting sense:
Spring the smell of orchards flowers\, Fall
idyllic atmosphere with mild weather.

URL;VALUE=URI:
SUMMARY:3rd International Half Marathon in Chios\, Greece\, the island of mastic
DTSTART:20140830T230000Z
END:VEVENT
END:VCALENDAR
An internal server error occurred.