BEGIN:VCALENDAR
VERSION:2.0
PRODID:-//hacksw/handcal//NONSGML v1.0//EN
CALSCALE:GREGORIAN
BEGIN:VEVENT
DTEND:20140522T190000Z
UID:69ec15893a62c
DTSTAMP:20260425T021449Z
LOCATION:1140 Wien
DESCRIPTION:Alle Infos unter der o.g. Webpage bzw. Mailadresse. Anmeldung verpflichtend. Begrenzte Teilnehmerzahlen Als Vorbereitung empfehlen wir den Vortrag am 5. Mai
URL;VALUE=URI:
SUMMARY:Aqua Jogging - Kurs für Anfänger und Fortgeschrittene
DTSTART:20140521T230000Z
END:VEVENT
END:VCALENDAR
An internal server error occurred.