BEGIN:VCALENDAR
VERSION:2.0
PRODID:-//hacksw/handcal//NONSGML v1.0//EN
CALSCALE:GREGORIAN
BEGIN:VEVENT
DTEND:20140502T183000Z
UID:69eb018baad88
DTSTAMP:20260424T063715Z
LOCATION:5350 Strobl Weißenbach 
DESCRIPTION:Eigenständiger Teil den Run Free 4 Tagesseminares
Platzreservierung empfohlen!
URL;VALUE=URI:
SUMMARY: 	Vortrag: Laufen- gesünder\, wirksamer\, schöner\, schneller
DTSTART:20140501T230000Z
END:VEVENT
END:VCALENDAR
An internal server error occurred.