BEGIN:VCALENDAR
VERSION:2.0
PRODID:-//hacksw/handcal//NONSGML v1.0//EN
CALSCALE:GREGORIAN
BEGIN:VEVENT
DTEND:20140513T060000Z
UID:69ed76dc08639
DTSTAMP:20260426T032220Z
LOCATION:1020 Wien
DESCRIPTION:Als Vorbereitung empfehlen wir den Vortrag am 5. Mai
Details uns alle Infos zu Kurs und Vortrag unter og. Web und/ oder Mailadresse
Anmeldung verpflichtend\, begrenzte Teilnehmerzahlen!
URL;VALUE=URI:
SUMMARY:Richtig Laufen - Lauftechnik für Anfänger und Fortgeschrittene
DTSTART:20140512T230000Z
END:VEVENT
END:VCALENDAR
An internal server error occurred.