BEGIN:VCALENDAR
VERSION:2.0
PRODID:-//hacksw/handcal//NONSGML v1.0//EN
CALSCALE:GREGORIAN
BEGIN:VEVENT
DTEND:20140505T164500Z
UID:69ebd6ce00f7e
DTSTAMP:20260424T214710Z
LOCATION:1020 Wien
DESCRIPTION:Das Warum\, Wie\, Wann des stossbelastungsfreien Trendsportes.Für alle die etwas neues ausprobieren möchten oder müssen\, weil sie verletzt sind oder waren\, oder übergewichtig\, oder schwanger\,oder einfach nur preventiv ...
URL;VALUE=URI:
SUMMARY:Vortrag: Aqua Joggen- der gesunde Gesundheitssport
DTSTART:20140504T230000Z
END:VEVENT
END:VCALENDAR
An internal server error occurred.