BEGIN:VCALENDAR
VERSION:2.0
PRODID:-//hacksw/handcal//NONSGML v1.0//EN
CALSCALE:GREGORIAN
BEGIN:VEVENT
DTEND:20140512T173000Z
UID:69ed76dc915eb
DTSTAMP:20260426T032220Z
LOCATION:1020 Wien
DESCRIPTION:Kursort: ASKÖ Spenadlwiese\, direkt neben 1er\, 7min U1\,U2\,U3
Alle weiteren Infos auf der o.g. Homepage
URL;VALUE=URI:
SUMMARY:Richtig Laufen - Lauftechnik für Anfänger und Fortgeschrittene
DTSTART:20140511T230000Z
END:VEVENT
END:VCALENDAR
An internal server error occurred.