BEGIN:VCALENDAR
VERSION:2.0
PRODID:-//hacksw/handcal//NONSGML v1.0//EN
CALSCALE:GREGORIAN
BEGIN:VEVENT
DTEND:20140222T090000Z
UID:69ed0ba2900da
DTSTAMP:20260425T194450Z
LOCATION:6370 Kitzbühel 
DESCRIPTION:Berglauf 
URL;VALUE=URI:
SUMMARY:Streif Vertical Up - die Schlacht am Hahnenkamm 
DTSTART:20140221T230000Z
END:VEVENT
END:VCALENDAR
An internal server error occurred.