BEGIN:VCALENDAR
VERSION:2.0
PRODID:-//hacksw/handcal//NONSGML v1.0//EN
CALSCALE:GREGORIAN
BEGIN:VEVENT
DTEND:20140906T090000Z
UID:69ed482a2e67b
DTSTAMP:20260426T000306Z
LOCATION:4202 Kirchschlag bei Linz
DESCRIPTION:2-Kampf 
URL;VALUE=URI:
SUMMARY:Kirchschlager Granitmann Bike and Run
DTSTART:20140905T230000Z
END:VEVENT
END:VCALENDAR
An internal server error occurred.