BEGIN:VCALENDAR
VERSION:2.0
PRODID:-//hacksw/handcal//NONSGML v1.0//EN
CALSCALE:GREGORIAN
BEGIN:VEVENT
DTEND:20140920T154000Z
UID:69ea2d74df79a
DTSTAMP:20260423T153220Z
LOCATION:2102 Bisamberg
DESCRIPTION:
URL;VALUE=URI:
SUMMARY:9. Sparkasse Korneuburg NIGHTRUN Bisamberg
DTSTART:20140919T230000Z
END:VEVENT
END:VCALENDAR
An internal server error occurred.