BEGIN:VCALENDAR
VERSION:2.0
PRODID:-//hacksw/handcal//NONSGML v1.0//EN
CALSCALE:GREGORIAN
BEGIN:VEVENT
DTEND:20130824T090000Z
UID:69ed525de569f
DTSTAMP:20260426T004637Z
LOCATION:8010 Graz
DESCRIPTION:Den ROTE NASEN Lauf kann man nicht ernst genug nehmen!
URL;VALUE=URI:
SUMMARY:Roten Nasen Lauf Graz- Alles was schwimmt Regatta
DTSTART:20130823T230000Z
END:VEVENT
END:VCALENDAR
An internal server error occurred.