BEGIN:VCALENDAR
VERSION:2.0
PRODID:-//hacksw/handcal//NONSGML v1.0//EN
CALSCALE:GREGORIAN
BEGIN:VEVENT
DTEND:20130518T140000Z
UID:69ed7926398e0
DTSTAMP:20260426T033206Z
LOCATION:4180 Zwettl an der Rodl
DESCRIPTION:Super Laufveranstaltung in tollem Ambiente am Zwettler Marktplatz
URL;VALUE=URI:
SUMMARY:Internationaler Zwettler Raml-Gastro 7-Brückenlauf
DTSTART:20130517T230000Z
END:VEVENT
END:VCALENDAR
An internal server error occurred.