BEGIN:VCALENDAR
VERSION:2.0
PRODID:-//hacksw/handcal//NONSGML v1.0//EN
CALSCALE:GREGORIAN
BEGIN:VEVENT
DTEND:20130518T090000Z
UID:69ebdf4f7cec0
DTSTAMP:20260424T222327Z
LOCATION:2135 Neudorf bei Staatz
DESCRIPTION:
URL;VALUE=URI:
SUMMARY:Neudorfer Sonnenenergielauf in Neudorf bei Staatz
DTSTART:20130517T230000Z
END:VEVENT
END:VCALENDAR
An internal server error occurred.