BEGIN:VCALENDAR
VERSION:2.0
PRODID:-//hacksw/handcal//NONSGML v1.0//EN
CALSCALE:GREGORIAN
BEGIN:VEVENT
DTEND:20131231T100000Z
UID:69ed3dbda18ec
DTSTAMP:20260425T231837Z
LOCATION:1010 Wien-Ringstrasse
DESCRIPTION:Rund um den Ring (Uhrzeigersinn)
Heavy Runners-Wertung (Schwergewichtswertung)\, Kostümierung\, Hundewertung


URL;VALUE=URI:
SUMMARY:LCC-Wien Int. Silvesterlauf des LCC-Wien auf der Ringstraße
DTSTART:20131230T230000Z
END:VEVENT
END:VCALENDAR
An internal server error occurred.