BEGIN:VCALENDAR
VERSION:2.0
PRODID:-//hacksw/handcal//NONSGML v1.0//EN
CALSCALE:GREGORIAN
BEGIN:VEVENT
DTEND:20120901T083000Z
UID:69eb018e14e2d
DTSTAMP:20260424T063718Z
LOCATION:2340 Mödling
DESCRIPTION:
URL;VALUE=URI:
SUMMARY:100 Jahre Anningerhaus Lauf und Nordic Walking
DTSTART:20120831T230000Z
END:VEVENT
END:VCALENDAR
An internal server error occurred.