BEGIN:VCALENDAR
VERSION:2.0
PRODID:-//hacksw/handcal//NONSGML v1.0//EN
CALSCALE:GREGORIAN
BEGIN:VEVENT
DTEND:20120523T090000Z
UID:69ec158a23d14
DTSTAMP:20260425T021450Z
LOCATION:1100 Wien
DESCRIPTION:23. bis 24. Mai 2012
URL;VALUE=URI:
SUMMARY:kidsrun4kids - Kurpark Oberlaa (Favoriten)
DTSTART:20120522T230000Z
END:VEVENT
END:VCALENDAR
An internal server error occurred.