BEGIN:VCALENDAR
VERSION:2.0
PRODID:-//hacksw/handcal//NONSGML v1.0//EN
CALSCALE:GREGORIAN
BEGIN:VEVENT
DTEND:20120515T090000Z
UID:69eb455e119c4
DTSTAMP:20260424T112638Z
LOCATION:1210 Wien
DESCRIPTION:
URL;VALUE=URI:
SUMMARY:kidsrun4kids -  Lagerwiese Schlossergasse (Floridsdorf)
DTSTART:20120514T230000Z
END:VEVENT
END:VCALENDAR
An internal server error occurred.