BEGIN:VCALENDAR
VERSION:2.0
PRODID:-//hacksw/handcal//NONSGML v1.0//EN
CALSCALE:GREGORIAN
BEGIN:VEVENT
DTEND:20120514T090000Z
UID:69ed8aad19e18
DTSTAMP:20260426T044653Z
LOCATION:1230 Wien
DESCRIPTION:
URL;VALUE=URI:
SUMMARY:kidsrun4kids - Fridjof-Nansen-Park (Liesing)
DTSTART:20120513T230000Z
END:VEVENT
END:VCALENDAR
An internal server error occurred.