BEGIN:VCALENDAR
VERSION:2.0
PRODID:-//hacksw/handcal//NONSGML v1.0//EN
CALSCALE:GREGORIAN
BEGIN:VEVENT
DTEND:20120818T083000Z
UID:69ed74a5cfed7
DTSTAMP:20260426T031253Z
LOCATION:9020 Klagenfurt
DESCRIPTION:Anmeldung www.Anmeldesystem.com
URL;VALUE=URI:
SUMMARY:Kärnten Läuft - Bewerbe Familien\, Frauen\, Dogging\, Kinder
DTSTART:20120817T230000Z
END:VEVENT
END:VCALENDAR
An internal server error occurred.