BEGIN:VCALENDAR
VERSION:2.0
PRODID:-//hacksw/handcal//NONSGML v1.0//EN
CALSCALE:GREGORIAN
BEGIN:VEVENT
DTEND:20120616T170000Z
UID:69ed86f82a00c
DTSTAMP:20260426T043104Z
LOCATION:1020 Wien
DESCRIPTION:ACHTUNG: Begrenzte Teilnehmerzahl
URL;VALUE=URI:
SUMMARY:Richtig Laufen - Lauftechnik für Anfänger und Fortgeschrittene
DTSTART:20120615T230000Z
END:VEVENT
END:VCALENDAR
An internal server error occurred.