BEGIN:VCALENDAR
VERSION:2.0
PRODID:-//hacksw/handcal//NONSGML v1.0//EN
CALSCALE:GREGORIAN
BEGIN:VEVENT
DTEND:20120312T170000Z
UID:69ed22d245691
DTSTAMP:20260425T212346Z
LOCATION:1020 Wien
DESCRIPTION:ACHTUNG: Begrenzte Teilnehmerzahl
URL;VALUE=URI:
SUMMARY:Richtig Laufen - Lauftechnik für Anfänger und Fortgeschrittene
DTSTART:20120311T230000Z
END:VEVENT
END:VCALENDAR
An internal server error occurred.