BEGIN:VCALENDAR
VERSION:2.0
PRODID:-//hacksw/handcal//NONSGML v1.0//EN
CALSCALE:GREGORIAN
BEGIN:VEVENT
DTEND:20120203T140000Z
UID:69ed939ba0f93
DTSTAMP:20260426T052459Z
LOCATION:1020 Wien
DESCRIPTION:ACHTUNG: Begrenzte Teilnehmerzahl
URL;VALUE=URI:
SUMMARY:Richtig Laufen - Lauftechnik für Anfänger und Fortgeschrittene
DTSTART:20120202T230000Z
END:VEVENT
END:VCALENDAR
An internal server error occurred.