BEGIN:VCALENDAR
VERSION:2.0
PRODID:-//hacksw/handcal//NONSGML v1.0//EN
CALSCALE:GREGORIAN
BEGIN:VEVENT
DTEND:20120331T133000Z
UID:69ebdf52e976b
DTSTAMP:20260424T222330Z
LOCATION:3386 Hafnerbach
DESCRIPTION:
URL;VALUE=URI:
SUMMARY:Hafnerbacher Ruinenlauf - Pielachtal-Laufcup
DTSTART:20120330T230000Z
END:VEVENT
END:VCALENDAR
An internal server error occurred.