BEGIN:VCALENDAR
VERSION:2.0
PRODID:-//hacksw/handcal//NONSGML v1.0//EN
CALSCALE:GREGORIAN
BEGIN:VEVENT
DTEND:20120623T040000Z
UID:69eabe867b627
DTSTAMP:20260424T015118Z
LOCATION:5020 Salzburg
DESCRIPTION:Anmeldung www.Anmeldesystem.com Eine bzw. zwei Schleife(n) zwischen Salzburg und Fuschl am See
URL;VALUE=URI:
SUMMARY:Mozart 100 Salzburg Running Festival
DTSTART:20120622T230000Z
END:VEVENT
END:VCALENDAR
An internal server error occurred.