BEGIN:VCALENDAR
VERSION:2.0
PRODID:-//hacksw/handcal//NONSGML v1.0//EN
CALSCALE:GREGORIAN
BEGIN:VEVENT
DTEND:20120526T140000Z
UID:69ed474773fff
DTSTAMP:20260425T235919Z
LOCATION:4180 Zwettl an der Rodl
DESCRIPTION:Tolle Laufveranstaltung im Zentrum von Zwettl an der Rodl. Rundkurs mit super Stimmung.
URL;VALUE=URI:
SUMMARY:Internationaler Zwettler Raml-Gastro 7-Brückenlauf
DTSTART:20120525T230000Z
END:VEVENT
END:VCALENDAR
An internal server error occurred.