BEGIN:VCALENDAR
VERSION:2.0
PRODID:-//hacksw/handcal//NONSGML v1.0//EN
CALSCALE:GREGORIAN
BEGIN:VEVENT
DTEND:20120616T080000Z
UID:69ebf5ee178c4
DTSTAMP:20260424T235958Z
LOCATION:1220 Wien
DESCRIPTION:
URL;VALUE=URI:
SUMMARY:Vienna City Triathlon Sprint und Olympische Distanz
DTSTART:20120615T230000Z
END:VEVENT
END:VCALENDAR
An internal server error occurred.