BEGIN:VCALENDAR
VERSION:2.0
PRODID:-//hacksw/handcal//NONSGML v1.0//EN
CALSCALE:GREGORIAN
BEGIN:VEVENT
DTEND:20120707T130000Z
UID:69e9d1046a9be
DTSTAMP:20260423T085756Z
LOCATION:8952 Irdning
DESCRIPTION:Für den Profi bis zum Hobbyläufer gibt es wieder die Möglichkeit\, seine sportlichen Grenzen zu testen und dabeu auch noch für eine Gute Sache unterwegs zu sein.
URL;VALUE=URI:
SUMMARY:24stunden-Benefizlauf Event Irdning mit 12stundenlauf
DTSTART:20120706T230000Z
END:VEVENT
END:VCALENDAR
An internal server error occurred.