BEGIN:VCALENDAR
VERSION:2.0
PRODID:-//hacksw/handcal//NONSGML v1.0//EN
CALSCALE:GREGORIAN
BEGIN:VEVENT
DTEND:20111208T180000Z
UID:69ed76db4a60e
DTSTAMP:20260426T032219Z
LOCATION:6060 Hall in Tirol
DESCRIPTION:Über 100 Spiegelsterne schmücken die Haller Altstadtgassen in der Adventzeit - sie sind Namensgeber für den Sterntaler-Lauf. 
URL;VALUE=URI:
SUMMARY:Haller Sterntalerlauf - Laufen für den guten Zweck
DTSTART:20111207T230000Z
END:VEVENT
END:VCALENDAR
An internal server error occurred.