BEGIN:VCALENDAR
VERSION:2.0
PRODID:-//hacksw/handcal//NONSGML v1.0//EN
CALSCALE:GREGORIAN
BEGIN:VEVENT
DTEND:20110914T174500Z
UID:69ed6bc79ea4a
DTSTAMP:20260426T023503Z
LOCATION:3100 St. Pölten
DESCRIPTION:ACHTUNG: Begrenzte Teilnehmerzahl 
URL;VALUE=URI:
SUMMARY:Richtig Laufen - Lauftechnik für Anfänger und Fortgeschrittene
DTSTART:20110913T230000Z
END:VEVENT
END:VCALENDAR
An internal server error occurred.