BEGIN:VCALENDAR
VERSION:2.0
PRODID:-//hacksw/handcal//NONSGML v1.0//EN
CALSCALE:GREGORIAN
BEGIN:VEVENT
DTEND:20110614T190000Z
UID:69ed9398cc341
DTSTAMP:20260426T052456Z
LOCATION:1020 Wien
DESCRIPTION:ACHTUNG: Begrenzte Teilnehmerzahl 
URL;VALUE=URI:
SUMMARY:Richtig Laufen - Lauftechnik für Anfänger und Fortgeschrittene
DTSTART:20110613T230000Z
END:VEVENT
END:VCALENDAR
An internal server error occurred.